BEGIN:VCALENDAR
VERSION:2.0
CALSCALE:GREGORIAN
PRODID:-//Diputació de Barcelona//DibaCMS//EN
BEGIN:VEVENT
UID:779
DTSTAMP:20260420T060842
DTSTART:20160314T180000
DTEND:20160314T000000
SUMMARY:Presentació de la campanya Tracta'm bé
LOCATION:
METHOD:PUBLISH
X-WR-CALNAME:capellades@capellades.cat
X-WR-TIMEZONE:Europe/Madrid
DESCRIPTION:

URI:https://www.capellades.cat/actualitat/agenda/presentacio-de-la-campanya-tractam-be.html
CLASS:PUBLIC
END:VEVENT
END:VCALENDAR
