BEGIN:VCALENDAR
VERSION:2.0
CALSCALE:GREGORIAN
PRODID:-//Diputació de Barcelona//DibaCMS//EN
BEGIN:VEVENT
UID:769
DTSTAMP:20260420T014747
DTSTART:20160305T210000
DTEND:20160305T000000
SUMMARY:Teatre a La Lliga amb la Cia. Entàndem Teatre
LOCATION:
METHOD:PUBLISH
X-WR-CALNAME:capellades@capellades.cat
X-WR-TIMEZONE:Europe/Madrid
DESCRIPTION:Home, Dona i Piano són tres personatges d'un viatge molt personal cap a les entranyes de la relació home-dona de la nostra societat. Una societat patriarcal que fa temps que trontolla però a la qual tots ens aferrem davant la por al canvi.

Víctima o botxí… on és la línia que separa l'un de l'altre? Quin paper ens ha tocat representar en el repartiment?

Potser és hora de mudar la pell i crear un nou vestit que no estigui fet de pedaços de l'anterior…

“Mudances” és un desig de transformació, una declaració d'amor, una necessitat d'acceptar-se, una demanda de respecte, una voluntat de compartir… un retrobament amb el valor de ser Dona

Preu de l'entrada: socis: 6€ / no socis: 8€





URI:https://www.capellades.cat/actualitat/agenda/teatre-a-la-lliga-amb-la-cia-entandem-teatre.html
CLASS:PUBLIC
END:VEVENT
END:VCALENDAR
