BEGIN:VCALENDAR
VERSION:2.0
CALSCALE:GREGORIAN
PRODID:-//Diputació de Barcelona//DibaCMS//EN
BEGIN:VEVENT
UID:768
DTSTAMP:20260419T233009
DTSTART:20160304T200000
DTEND:20160304T000000
SUMMARY:Conferència Shakespeariana al Paper de Música
LOCATION:
METHOD:PUBLISH
X-WR-CALNAME:capellades@capellades.cat
X-WR-TIMEZONE:Europe/Madrid
DESCRIPTION:La Sala Paper de Música de Capellades impulsa una nova activitat cultural. En aquest cas, i aprofitant el seu fons videogràfic de grans obres teatrals de Shakespeare, emeses per la BBC i magníficament doblades al català per TV3, Paper de Música ens proposa un programa de descoberta i aprofundiment sobre diferents obres Shakespearianes estructurat en tres fases; Conferència, lectura de l'obra i visionat de la peça teatral.

Programa:

Divendres dia 4 de març, 20h.

Conferència de Berni Armstrong sobre “El Rei Lear” (entrada de 3€)

Venda del llibre/obra teatral “El Rei Lear”, a qui ho vulgui. (Ed. Vicens Vives, amb traducció de Salvador Oliva, amb 18% de descompte, preu 11€)

Dissabte dia 16 d'abril, 18h.

Visionat de l'obra teatral “El Rei Lear” de la BBC, doblada al català. Durada aprox. 3h (entrada gratuïta. No és necessari haver vingut a la conferència, ni haver llegit el llibre per assistir-hi. Però és aconsellable per entendre-la millor)

Després del “Rei Lear” (tragèdia), vindrà “Henry II” (història) i al darrera “Nit de Reis” (comèdia).

Per a una millor organització, preguem a les persones interessades en assistir, reservin lloc, mitjançant correu electrònic a PAPER DE MÚSICA capellades@paperdemusica.cat o trucant al 93.801.40.43 de 8 del matí a 4 de la tarda, o al 93.801.17.07 de 4 a 6 de la tarda.



 

URI:https://www.capellades.cat/actualitat/agenda/conferencia-shakespeariana-al-paper-de-musica.html
CLASS:PUBLIC
END:VEVENT
END:VCALENDAR
