BEGIN:VCALENDAR
VERSION:2.0
CALSCALE:GREGORIAN
PRODID:-//Diputació de Barcelona//DibaCMS//EN
BEGIN:VEVENT
UID:767
DTSTAMP:20260419T180409
DTSTART:20160304T190000
DTEND:20160304T000000
SUMMARY:Presentació del llibre de Maria Pellicer a la Biblioteca
LOCATION:
METHOD:PUBLISH
X-WR-CALNAME:capellades@capellades.cat
X-WR-TIMEZONE:Europe/Madrid
DESCRIPTION:Presentació del llibre "Hacia donde el alma te lleve. Ada, la hija de la luz"

Maria Pellicer és Psicòloga clínica especialitzada en teràpia transpersonal des de fa 17 anys.
Autora de dos llibres més, compagina la seva activitat amb l'Ong Forkids que va fundar fa 15 anys, dedicada a la infància i a les seves famílies en una zona rural de la Índia.



URI:https://www.capellades.cat/actualitat/agenda/presentacio-del-llibre-de-maria-pellicer-a-la-biblioteca.html
CLASS:PUBLIC
END:VEVENT
END:VCALENDAR
