BEGIN:VCALENDAR
VERSION:2.0
CALSCALE:GREGORIAN
PRODID:-//Diputació de Barcelona//DibaCMS//EN
BEGIN:VEVENT
UID:766
DTSTAMP:20260422T102533
DTSTART:20160317T200000
DTEND:20160317T000000
SUMMARY:Cinefòrum sobre dones a la Biblioteca 
LOCATION:
METHOD:PUBLISH
X-WR-CALNAME:capellades@capellades.cat
X-WR-TIMEZONE:Europe/Madrid
DESCRIPTION:Cinefòrum amb el documental de Virginie Linhart "Simone de Beauvoir, no se nace mujer".

La presentació i el col·loqui anirà a càrrec de la Denise Jiménez, Educadora Social especialitzada en temes de gènere.



URI:https://www.capellades.cat/actualitat/agenda/cineforum-sobre-dones-a-la-biblioteca-.html
CLASS:PUBLIC
END:VEVENT
END:VCALENDAR
