BEGIN:VCALENDAR
VERSION:2.0
CALSCALE:GREGORIAN
PRODID:-//Diputació de Barcelona//DibaCMS//EN
BEGIN:VEVENT
UID:765
DTSTAMP:20260420T073516
DTSTART:20160311T200000
DTEND:20160311T000000
SUMMARY:Xerrada. Projectes i experiències de Sindillar
LOCATION:
METHOD:PUBLISH
X-WR-CALNAME:capellades@capellades.cat
X-WR-TIMEZONE:Europe/Madrid
DESCRIPTION:L'Isabel Escobar, Presidenta del Sindicato de la Trabajadoras del Hogar y del Cuidado (Sindihogar/Sindillar) i la Norma Falconi, membre de la Junta del Centre de Cultura de Dones “Francesca Bonnemaison” ens faran una xerrada sobre els projectes i experiències d'aquest sindicat independent de dones treballadores de la llar.





URI:https://www.capellades.cat/actualitat/agenda/xerrada-projectes-i-experiencies-de-sindillar.html
CLASS:PUBLIC
END:VEVENT
END:VCALENDAR
