BEGIN:VCALENDAR
VERSION:2.0
CALSCALE:GREGORIAN
PRODID:-//Diputació de Barcelona//DibaCMS//EN
BEGIN:VEVENT
UID:762
DTSTAMP:20260420T023828
DTSTART:20160305T110000
DTEND:20160305T000000
SUMMARY:Pintada del Mural pel Dia de la Dona Treballadora
LOCATION:
METHOD:PUBLISH
X-WR-CALNAME:capellades@capellades.cat
X-WR-TIMEZONE:Europe/Madrid
DESCRIPTION:La Taula de Dones de Capellades, en col·laboració amb l'Esplai Aliret, pintarà el Mural del Dia de la Dona Treballadora en un mur del carrer Garbí.

Aquesta acció s'enmarca dins el programa d'activitats reivindicatives de la diada del 8 de març, 



URI:https://www.capellades.cat/actualitat/agenda/pintada-del-mural-pel-dia-de-la-dona-treballadora.html
CLASS:PUBLIC
END:VEVENT
END:VCALENDAR
