BEGIN:VCALENDAR
VERSION:2.0
CALSCALE:GREGORIAN
PRODID:-//Diputació de Barcelona//DibaCMS//EN
BEGIN:VEVENT
UID:761
DTSTAMP:20260420T000050
DTSTART:20160301T193000
DTEND:20160301T000000
SUMMARY:Xerrada a La Lliga. Avancem cap a la reforma horària 
LOCATION:
METHOD:PUBLISH
X-WR-CALNAME:capellades@capellades.cat
X-WR-TIMEZONE:Europe/Madrid
DESCRIPTION:Aquest dimarts dia 1 de març de 2016 a les 19.30h, us esperem al Saló Rosa de La Lliga, per parlar de la reforma horària.

Sota el títol “AVANCEM CAP A LA REFORMA HORÀRIA, conciliació entre la vida familiar, laboral i social”, en Fabian Mohedano, Diputat al Parlament de Catalunya des de l'any 2016 ens farà una xerrada sobre aquest tema tan important, i que ens afecta en els difrents àmbits de la nostra vida.



URI:https://www.capellades.cat/actualitat/agenda/xerrada-a-la-lliga-avancem-cap-a-la-reforma-horaria-.html
CLASS:PUBLIC
END:VEVENT
END:VCALENDAR
