BEGIN:VCALENDAR
VERSION:2.0
CALSCALE:GREGORIAN
PRODID:-//Diputació de Barcelona//DibaCMS//EN
BEGIN:VEVENT
UID:759
DTSTAMP:20260419T165927
DTSTART:20160228T190000
DTEND:20160228T210000
SUMMARY:Concert amb Àlex Cassanyes
LOCATION:
METHOD:PUBLISH
X-WR-CALNAME:capellades@capellades.cat
X-WR-TIMEZONE:Europe/Madrid
DESCRIPTION:Concert amb l'Àlex Cassanyes Big Band Project aquest diumenge a la tarda. Aquesta és una formació integrada per 18 músics i liderada per aquest compositor capelladí.

URI:https://www.capellades.cat/actualitat/agenda/concert-amb-alex-cassanyes.html
CLASS:PUBLIC
END:VEVENT
END:VCALENDAR
