BEGIN:VCALENDAR
VERSION:2.0
CALSCALE:GREGORIAN
PRODID:-//Diputació de Barcelona//DibaCMS//EN
BEGIN:VEVENT
UID:757
DTSTAMP:20260420T073927
DTSTART:20160228T090000
DTEND:20160228T160000
SUMMARY:Rogaine de l'Anoia
LOCATION:
METHOD:PUBLISH
X-WR-CALNAME:capellades@capellades.cat
X-WR-TIMEZONE:Europe/Madrid
DESCRIPTION:Aquest diumenge, amb l'organització d'AEMdeKP i l'Ajuntament de Capellades, es fa la primera edició del Rogaine de l'Anoia, una modalitat esportiva de les curses d'orientació en què els participants han de desplaçar-se a peu, amb l'objectiu d'aconseguir la màxima puntuació passant pels controls en un temps màxim i un ordre lliure.

URI:https://www.capellades.cat/actualitat/agenda/rogaine-de-lanoia.html
CLASS:PUBLIC
END:VEVENT
END:VCALENDAR
