BEGIN:VCALENDAR
VERSION:2.0
CALSCALE:GREGORIAN
PRODID:-//Diputació de Barcelona//DibaCMS//EN
BEGIN:VEVENT
UID:756
DTSTAMP:20260420T024458
DTSTART:20160227T190000
DTEND:20160227T210000
SUMMARY:Concert d'Hivern
LOCATION:
METHOD:PUBLISH
X-WR-CALNAME:capellades@capellades.cat
X-WR-TIMEZONE:Europe/Madrid
DESCRIPTION:Aldamena Duo, amb Nahikari Oloriz al saxòfon i Itxaso Sainz de la Maza al piano,  serà el protagonista del Concert d'Hivern que es fa a Paper de Música aquest dissabte a la tarda.

URI:https://www.capellades.cat/actualitat/agenda/concert-dhivern.html
CLASS:PUBLIC
END:VEVENT
END:VCALENDAR
