BEGIN:VCALENDAR
VERSION:2.0
CALSCALE:GREGORIAN
PRODID:-//Diputació de Barcelona//DibaCMS//EN
BEGIN:VEVENT
UID:755
DTSTAMP:20260420T041657
DTSTART:20160227T110000
DTEND:20160227T130000
SUMMARY:Portes obertes 
LOCATION:
METHOD:PUBLISH
X-WR-CALNAME:capellades@capellades.cat
X-WR-TIMEZONE:Europe/Madrid
DESCRIPTION:El Col·legi Mare del Diví Pastor a Capellades farà aquest dissabte al matí una jornada de portes obertes per donar a conèixer les seves instal·lacions.

URI:https://www.capellades.cat/actualitat/agenda/portes-obertes-.html
CLASS:PUBLIC
END:VEVENT
END:VCALENDAR
