BEGIN:VCALENDAR
VERSION:2.0
CALSCALE:GREGORIAN
PRODID:-//Diputació de Barcelona//DibaCMS//EN
BEGIN:VEVENT
UID:751
DTSTAMP:20260420T055500
DTSTART:20160220T220000
DTEND:20160220T000000
SUMMARY:Espectacle de dansa a La Lliga
LOCATION:
METHOD:PUBLISH
X-WR-CALNAME:capellades@capellades.cat
X-WR-TIMEZONE:Europe/Madrid
DESCRIPTION:

URI:https://www.capellades.cat/actualitat/agenda/espectacle-de-dansa-a-la-lliga.html
CLASS:PUBLIC
END:VEVENT
END:VCALENDAR
