BEGIN:VCALENDAR
VERSION:2.0
CALSCALE:GREGORIAN
PRODID:-//Diputació de Barcelona//DibaCMS//EN
BEGIN:VEVENT
UID:743
DTSTAMP:20260419T170132
DTSTART:20160213T233000
DTEND:20160213T040000
SUMMARY:Carnestoltes de Jove KP al Teatre La Lliga
LOCATION:
METHOD:PUBLISH
X-WR-CALNAME:capellades@capellades.cat
X-WR-TIMEZONE:Europe/Madrid
DESCRIPTION:

URI:https://www.capellades.cat/actualitat/agenda/carnestoltes-de-jove-kp-al-teatre-la-lliga.html
CLASS:PUBLIC
END:VEVENT
END:VCALENDAR
