BEGIN:VCALENDAR
VERSION:2.0
CALSCALE:GREGORIAN
PRODID:-//Diputació de Barcelona//DibaCMS//EN
BEGIN:VEVENT
UID:742
DTSTAMP:20260419T235925
DTSTART:20160213T173000
DTEND:20160213T000000
SUMMARY:De tant en tant a Barcelona al teatre amb La Lliga
LOCATION:
METHOD:PUBLISH
X-WR-CALNAME:capellades@capellades.cat
X-WR-TIMEZONE:Europe/Madrid
DESCRIPTION:Aquest cop anem al Teatre Nacional de Catalunya a veure...



Un text extraordinari mai estrenat a Catalunya amb un repartiment de luxe. En un hospital universitari, la decisió complexa d'un metge desencadena un seguit de conseqüències que faran trontollar tots els estaments polítics i religiosos d'un país obligat a posicionar-se. Una adaptació d'aquest clàssic extraordinari de 1912, prohibit durant molts anys a Àustria.

Marxem: a les 17,30h. de l'esplanada. L'obra comença a les 20h
Preu: 30€ Socis / 35€ No socis (inclou entrada + autocar)

Per inscripció i reserves cal trucar al telèfon: 649 19 75 37

URI:https://www.capellades.cat/actualitat/agenda/742-de-tant-en-tant-a-barcelona-al-teatre-amb-la-lliga.html
CLASS:PUBLIC
END:VEVENT
END:VCALENDAR
