BEGIN:VCALENDAR
VERSION:2.0
CALSCALE:GREGORIAN
PRODID:-//Diputació de Barcelona//DibaCMS//EN
BEGIN:VEVENT
UID:731
DTSTAMP:20260419T164104
DTSTART:20160206T131500
DTEND:20160206T000000
SUMMARY:Concert de folc amb el grup RIU
LOCATION:
METHOD:PUBLISH
X-WR-CALNAME:capellades@capellades.cat
X-WR-TIMEZONE:Europe/Madrid
DESCRIPTION:El grup de música popular RIU ens presenta el seu darrer treball

"Abans tot això eren camps"

Per Heràclit tot es troba en estat de flux, res s'està quiet. Citant-lo “un home no es pot banyar dos cops en el mateix riu ja que en estar tot sotmès a un canvi continu, ni el riu ni l'home seran els mateixos el segon cop que hi passin”.

Als RIU ens agrada sentir la música popular i la tradició com un riu en constant flux.



URI:https://www.capellades.cat/actualitat/agenda/concert-de-folc-amb-el-grup-riu.html
CLASS:PUBLIC
END:VEVENT
END:VCALENDAR
