BEGIN:VCALENDAR
VERSION:2.0
CALSCALE:GREGORIAN
PRODID:-//Diputació de Barcelona//DibaCMS//EN
BEGIN:VEVENT
UID:708
DTSTAMP:20260419T151353
DTSTART:20160110T120000
DTEND:20160110T000000
SUMMARY:Lliurament de premis Concurs de Pessebres
LOCATION:
METHOD:PUBLISH
X-WR-CALNAME:capellades@capellades.cat
X-WR-TIMEZONE:Europe/Madrid
DESCRIPTION:

URI:https://www.capellades.cat/actualitat/agenda/lliurament-de-premis-concurs-de-pessebres.html
CLASS:PUBLIC
END:VEVENT
END:VCALENDAR
