BEGIN:VCALENDAR
VERSION:2.0
CALSCALE:GREGORIAN
PRODID:-//Diputació de Barcelona//DibaCMS//EN
BEGIN:VEVENT
UID:705
DTSTAMP:20260419T212930
DTSTART:20160105T190000
DTEND:20160105T000000
SUMMARY:Cavalcada de Reis 
LOCATION:
METHOD:PUBLISH
X-WR-CALNAME:capellades@capellades.cat
X-WR-TIMEZONE:Europe/Madrid
DESCRIPTION:Cavalcada de Reis a Capellades

Recorregut:

Avda. Matias Guasch - St. Ramon - Pl. Àngel Guimerà - Major - Pl. Verdaguer - Fossar - Call - Dr. Fleming - P. Miquel i Mas - Pssg. Immaculada Concepció

 



URI:https://www.capellades.cat/actualitat/agenda/cavalcada-de-reis-.html
CLASS:PUBLIC
END:VEVENT
END:VCALENDAR
