BEGIN:VCALENDAR
VERSION:2.0
CALSCALE:GREGORIAN
PRODID:-//Diputació de Barcelona//DibaCMS//EN
BEGIN:VEVENT
UID:703
DTSTAMP:20260419T214500
DTSTART:20160103T180000
DTEND:20160103T000000
SUMMARY:Concert de Reis Coral Xeremell
LOCATION:
METHOD:PUBLISH
X-WR-CALNAME:capellades@capellades.cat
X-WR-TIMEZONE:Europe/Madrid
DESCRIPTION:Com cada any, els Reis ens porten un regal per avançat! Ens duen un sac ple de cançons d'allò més animades que els nens i nenes de la Coral Xeremell ens interpretaran amb molta il·lusió!
Si els voleu sentir, acompanyeu-nos en aquest TRADICIONAL CONCERT DE REIS amb les cançons de sempre i amb d'altres d'allò més actuals!








 

URI:https://www.capellades.cat/actualitat/agenda/concert-de-reis-coral-xeremell.html
CLASS:PUBLIC
END:VEVENT
END:VCALENDAR
