BEGIN:VCALENDAR
VERSION:2.0
CALSCALE:GREGORIAN
PRODID:-//Diputació de Barcelona//DibaCMS//EN
BEGIN:VEVENT
UID:699
DTSTAMP:20260419T145632
DTSTART:20151225T120000
DTEND:20151225T000000
SUMMARY:Pessebres de Nadal de Joan Escala 
LOCATION:
METHOD:PUBLISH
X-WR-CALNAME:capellades@capellades.cat
X-WR-TIMEZONE:Europe/Madrid
DESCRIPTION:Exposició de Pessebres de Jaan Escala Soteras

Taller del Pessebre



URI:https://www.capellades.cat/actualitat/agenda/pessebres-de-nadal-de-joan-escala-.html
CLASS:PUBLIC
END:VEVENT
END:VCALENDAR
