BEGIN:VCALENDAR
VERSION:2.0
CALSCALE:GREGORIAN
PRODID:-//Diputació de Barcelona//DibaCMS//EN
BEGIN:VEVENT
UID:697
DTSTAMP:20260420T054645
DTSTART:20151225T190000
DTEND:20151225T000000
SUMMARY:Pastorets de Capellades
LOCATION:
METHOD:PUBLISH
X-WR-CALNAME:capellades@capellades.cat
X-WR-TIMEZONE:Europe/Madrid
DESCRIPTION:Pastorets de Capellades

L'Estel de Natzaret

25 de desembre a les  19.00h

27 de desembre a les 18.00h



Preu de l'entrada d'adult: socis: 7'5€ / no socis: 10€

Preu de l'entrada infantil (fins a 12 anys): socis: 6€ / no socis: 7,50€

 

URI:https://www.capellades.cat/actualitat/agenda/pastorets-de-capellades.html
CLASS:PUBLIC
END:VEVENT
END:VCALENDAR
