BEGIN:VCALENDAR
VERSION:2.0
CALSCALE:GREGORIAN
PRODID:-//Diputació de Barcelona//DibaCMS//EN
BEGIN:VEVENT
UID:696
DTSTAMP:20260419T200744
DTSTART:20151225T110000
DTEND:20151225T000000
SUMMARY:Coral Xeremell a la Residència
LOCATION:
METHOD:PUBLISH
X-WR-CALNAME:capellades@capellades.cat
X-WR-TIMEZONE:Europe/Madrid
DESCRIPTION:Concert de nadales de la Coral Xeremell a la Resiència d'avis de Capellades





URI:https://www.capellades.cat/actualitat/agenda/coral-xeremell-a-la-residencia.html
CLASS:PUBLIC
END:VEVENT
END:VCALENDAR
