BEGIN:VCALENDAR
VERSION:2.0
CALSCALE:GREGORIAN
PRODID:-//Diputació de Barcelona//DibaCMS//EN
BEGIN:VEVENT
UID:691
DTSTAMP:20260420T091021
DTSTART:20151223T160000
DTEND:20151223T000000
SUMMARY:Marató de Pel·lícules de Nadal a la Biblioteca
LOCATION:
METHOD:PUBLISH
X-WR-CALNAME:capellades@capellades.cat
X-WR-TIMEZONE:Europe/Madrid
DESCRIPTION:Marató de pel·lícules nadalenques a la Biblioteca El Safareig

des de les 4 de la tarda, viu la màgia del Nadal "non stop"...

entrada lliure!

  

URI:https://www.capellades.cat/actualitat/agenda/marato-de-pellicules-de-nadal-a-la-biblioteca.html
CLASS:PUBLIC
END:VEVENT
END:VCALENDAR
