BEGIN:VCALENDAR
VERSION:2.0
CALSCALE:GREGORIAN
PRODID:-//Diputació de Barcelona//DibaCMS//EN
BEGIN:VEVENT
UID:689
DTSTAMP:20260419T214315
DTSTART:20151222T170000
DTEND:20151222T000000
SUMMARY:Taller familiar de torró a la Biblioteca
LOCATION:
METHOD:PUBLISH
X-WR-CALNAME:capellades@capellades.cat
X-WR-TIMEZONE:Europe/Madrid
DESCRIPTION:

URI:https://www.capellades.cat/actualitat/agenda/taller-familiar-de-torro-a-la-biblioteca.html
CLASS:PUBLIC
END:VEVENT
END:VCALENDAR
