BEGIN:VCALENDAR
VERSION:2.0
CALSCALE:GREGORIAN
PRODID:-//Diputació de Barcelona//DibaCMS//EN
BEGIN:VEVENT
UID:687
DTSTAMP:20260419T235041
DTSTART:20151221T153000
DTEND:20151221T000000
SUMMARY:Cantada de Nadal Col·legi Mare del Diví Pastor
LOCATION:
METHOD:PUBLISH
X-WR-CALNAME:capellades@capellades.cat
X-WR-TIMEZONE:Europe/Madrid
DESCRIPTION:

URI:https://www.capellades.cat/actualitat/agenda/cantada-de-nadal-collegi-mare-del-divi-pastor.html
CLASS:PUBLIC
END:VEVENT
END:VCALENDAR
