BEGIN:VCALENDAR
VERSION:2.0
CALSCALE:GREGORIAN
PRODID:-//Diputació de Barcelona//DibaCMS//EN
BEGIN:VEVENT
UID:685
DTSTAMP:20260419T163019
DTSTART:20151220T120000
DTEND:20151220T000000
SUMMARY:Concert de Nadal de la Banda i Big-band de l'Escola de Música
LOCATION:
METHOD:PUBLISH
X-WR-CALNAME:capellades@capellades.cat
X-WR-TIMEZONE:Europe/Madrid
DESCRIPTION:Concert de Nadal a la Sala l'Envelat de Capellades



URI:https://www.capellades.cat/actualitat/agenda/concert-de-nadal-de-la-banda-i-big-band-de-lescola-de-musica.html
CLASS:PUBLIC
END:VEVENT
END:VCALENDAR
