BEGIN:VCALENDAR
VERSION:2.0
CALSCALE:GREGORIAN
PRODID:-//Diputació de Barcelona//DibaCMS//EN
BEGIN:VEVENT
UID:682
DTSTAMP:20260419T230206
DTSTART:20151220T113000
DTEND:20151220T133000
SUMMARY:Concentració vehicles a Capellades
LOCATION:
METHOD:PUBLISH
X-WR-CALNAME:capellades@capellades.cat
X-WR-TIMEZONE:Europe/Madrid
DESCRIPTION:Concentració d'Audi TT a Capellades



URI:https://www.capellades.cat/actualitat/agenda/concentracio-vehicles-a-capellades.html
CLASS:PUBLIC
END:VEVENT
END:VCALENDAR
