BEGIN:VCALENDAR
VERSION:2.0
CALSCALE:GREGORIAN
PRODID:-//Diputació de Barcelona//DibaCMS//EN
BEGIN:VEVENT
UID:669
DTSTAMP:20260419T134658
DTSTART:20151214T000000
DTEND:20151214T000000
SUMMARY:Anem a buscar el Tió
LOCATION:
METHOD:PUBLISH
X-WR-CALNAME:capellades@capellades.cat
X-WR-TIMEZONE:Europe/Madrid
DESCRIPTION:Activitat escolar al Marquès de la Pobla

ANEM A BUSCAR EL TIÓ DE NADAL



URI:https://www.capellades.cat/actualitat/agenda/anem-a-buscar-el-tio.html
CLASS:PUBLIC
END:VEVENT
END:VCALENDAR
