BEGIN:VCALENDAR
VERSION:2.0
CALSCALE:GREGORIAN
PRODID:-//Diputació de Barcelona//DibaCMS//EN
BEGIN:VEVENT
UID:662
DTSTAMP:20260420T023719
DTSTART:20151211T200000
DTEND:20151211T000000
SUMMARY:Retalls de Cuina
LOCATION:
METHOD:PUBLISH
X-WR-CALNAME:capellades@capellades.cat
X-WR-TIMEZONE:Europe/Madrid
DESCRIPTION:Fem "Cuinetes" amb la Montse i la Mercè

Aquesta setmana:

Menú de Nadal



URI:https://www.capellades.cat/actualitat/agenda/retalls-de-cuina.html
CLASS:PUBLIC
END:VEVENT
END:VCALENDAR
