BEGIN:VCALENDAR
VERSION:2.0
CALSCALE:GREGORIAN
PRODID:-//Diputació de Barcelona//DibaCMS//EN
BEGIN:VEVENT
UID:660
DTSTAMP:20260419T182704
DTSTART:20151211T160000
DTEND:20151211T000000
SUMMARY:Concerts dels Girasols a la Residència
LOCATION:
METHOD:PUBLISH
X-WR-CALNAME:capellades@capellades.cat
X-WR-TIMEZONE:Europe/Madrid
DESCRIPTION:Concert de la coral "Els Girasols", de Vilanova del Camí, a la Residència d'avis



URI:https://www.capellades.cat/actualitat/agenda/concerts-dels-girasols-a-la-residencia.html
CLASS:PUBLIC
END:VEVENT
END:VCALENDAR
