BEGIN:VCALENDAR
VERSION:2.0
CALSCALE:GREGORIAN
PRODID:-//Diputació de Barcelona//DibaCMS//EN
BEGIN:VEVENT
UID:6595
DTSTAMP:20260420T060325
DTSTART:20221008T190000
DTEND:20221008T203000
SUMMARY:Vine a veure l'Esbart egarenc
LOCATION:
METHOD:PUBLISH
X-WR-CALNAME:capellades@capellades.cat
X-WR-TIMEZONE:Europe/Madrid
DESCRIPTION:Si t'agraden les danses no et perdis l'actuació de l'Esbart egarenc.

URI:https://www.capellades.cat/actualitat/agenda/vine-a-veure-lesbart-egarenc.html
CLASS:PUBLIC
END:VEVENT
END:VCALENDAR
