BEGIN:VCALENDAR
VERSION:2.0
CALSCALE:GREGORIAN
PRODID:-//Diputació de Barcelona//DibaCMS//EN
BEGIN:VEVENT
UID:656
DTSTAMP:20260420T073158
DTSTART:20151214T170000
DTEND:20151214T000000
SUMMARY:Xerrada la Marató 2015 a Cal Ponet
LOCATION:
METHOD:PUBLISH
X-WR-CALNAME:capellades@capellades.cat
X-WR-TIMEZONE:Europe/Madrid
DESCRIPTION:
Xerrada "diabetis i obesitat" a cal Ponet, dins l'espai de la gent gran, a càrrec de la infermera del CAP Francina Travesset


 

URI:https://www.capellades.cat/actualitat/agenda/xerrada-la-marato-2015-a-cal-ponet.html
CLASS:PUBLIC
END:VEVENT
END:VCALENDAR
