BEGIN:VCALENDAR
VERSION:2.0
CALSCALE:GREGORIAN
PRODID:-//Diputació de Barcelona//DibaCMS//EN
BEGIN:VEVENT
UID:6471
DTSTAMP:20260419T214112
DTSTART:20220630T190000
DTEND:20220630T200000
SUMMARY:Nova experiencia sostenible a l'Espai Guasch
LOCATION:
METHOD:PUBLISH
X-WR-CALNAME:capellades@capellades.cat
X-WR-TIMEZONE:Europe/Madrid
DESCRIPTION:Espai Guasch proposa una nova experiència sostenible per aquest mes de juny.

URI:https://www.capellades.cat/actualitat/agenda/6471-nova-experiencia-sostenible-a-lespai-guasch.html
CLASS:PUBLIC
END:VEVENT
END:VCALENDAR
