BEGIN:VCALENDAR
VERSION:2.0
CALSCALE:GREGORIAN
PRODID:-//Diputació de Barcelona//DibaCMS//EN
BEGIN:VEVENT
UID:647
DTSTAMP:20260419T135943
DTSTART:20151201T180000
DTEND:20151201T000000
SUMMARY:Biblioteca El Safareig- Contes de Nadal amb la Manela
LOCATION:
METHOD:PUBLISH
X-WR-CALNAME:capellades@capellades.cat
X-WR-TIMEZONE:Europe/Madrid
DESCRIPTION:CONTES DE NADAL AMB LA MANELA

Contes, poemes i endevinalles que ens faran entrar al món màgic del Nadal.

Coneixerem les històries dels Reis de l'Orient, el Tió, l'Estel de Nadal... i fins i tot del Dimoni Escuat!



URI:https://www.capellades.cat/actualitat/agenda/biblioteca-el-safareig-contes-de-nadal-amb-la-manela.html
CLASS:PUBLIC
END:VEVENT
END:VCALENDAR
