BEGIN:VCALENDAR
VERSION:2.0
CALSCALE:GREGORIAN
PRODID:-//Diputació de Barcelona//DibaCMS//EN
BEGIN:VEVENT
UID:6438
DTSTAMP:20260419T200533
DTSTART:20220611T180000
DTEND:20220611T190000
SUMMARY:L'Esbart Dansot a l'homenatge al mestre Jordi Núñez
LOCATION:
METHOD:PUBLISH
X-WR-CALNAME:capellades@capellades.cat
X-WR-TIMEZONE:Europe/Madrid
DESCRIPTION:19 esbarts de Catalunya, incloent el capelladí Esbart Dansot, participaran a l'acte d'homenatge que es farà aquest dissabte a les 6 de la tarda al Parc del Clot de Barcelona.

URI:https://www.capellades.cat/actualitat/agenda/lesbart-dansot-a-lhomenatge-al-mestre-jordi-nunez.html
CLASS:PUBLIC
END:VEVENT
END:VCALENDAR
