BEGIN:VCALENDAR
VERSION:2.0
CALSCALE:GREGORIAN
PRODID:-//Diputació de Barcelona//DibaCMS//EN
BEGIN:VEVENT
UID:6422
DTSTAMP:20260419T182637
DTSTART:20220528T183000
DTEND:20220528T200000
SUMMARY:Torna la Copa Catalunya Amateur
LOCATION:
METHOD:PUBLISH
X-WR-CALNAME:capellades@capellades.cat
X-WR-TIMEZONE:Europe/Madrid
DESCRIPTION:🔥Torna la Copa Catalunya Amateur a Capellades🔥

La primera ronda enfrontarà el C. F. Capellades "A" amb la UD Taradell "C"

URI:https://www.capellades.cat/actualitat/agenda/torna-la-copa-catalunya-amateur.html
CLASS:PUBLIC
END:VEVENT
END:VCALENDAR
