BEGIN:VCALENDAR
VERSION:2.0
CALSCALE:GREGORIAN
PRODID:-//Diputació de Barcelona//DibaCMS//EN
BEGIN:VEVENT
UID:639
DTSTAMP:20260419T170344
DTSTART:20151126T093000
DTEND:20151126T000000
SUMMARY:Mou-te! Caminem i fem salut
LOCATION:
METHOD:PUBLISH
X-WR-CALNAME:capellades@capellades.cat
X-WR-TIMEZONE:Europe/Madrid
DESCRIPTION:

URI:https://www.capellades.cat/actualitat/agenda/mou-te-caminem-i-fem-salut.html
CLASS:PUBLIC
END:VEVENT
END:VCALENDAR
