BEGIN:VCALENDAR
VERSION:2.0
CALSCALE:GREGORIAN
PRODID:-//Diputació de Barcelona//DibaCMS//EN
BEGIN:VEVENT
UID:637
DTSTAMP:20260422T121348
DTSTART:20151124T210000
DTEND:20151124T000000
SUMMARY:Audiciona't - Escola de Música
LOCATION:
METHOD:PUBLISH
X-WR-CALNAME:capellades@capellades.cat
X-WR-TIMEZONE:Europe/Madrid
DESCRIPTION:Escola de Música de Capellades

AUDICIONA'T (17)

El Violí en el Jazz

Tribut a Stèphane Grappelli



URI:https://www.capellades.cat/actualitat/agenda/audicionat-escola-de-musica.html
CLASS:PUBLIC
END:VEVENT
END:VCALENDAR
