BEGIN:VCALENDAR
VERSION:2.0
CALSCALE:GREGORIAN
PRODID:-//Diputació de Barcelona//DibaCMS//EN
BEGIN:VEVENT
UID:6349
DTSTAMP:20260420T023840
DTSTART:20220501T120000
DTEND:20220501T140000
SUMMARY:Concert vermut diumenge a les 12
LOCATION:
METHOD:PUBLISH
X-WR-CALNAME:capellades@capellades.cat
X-WR-TIMEZONE:Europe/Madrid
DESCRIPTION:La Societat La Lliga proposa començar el mes de maig amb un concert vermut.

URI:https://www.capellades.cat/actualitat/agenda/concert-vermut-diumenge-a-les-12.html
CLASS:PUBLIC
END:VEVENT
END:VCALENDAR
