BEGIN:VCALENDAR
VERSION:2.0
CALSCALE:GREGORIAN
PRODID:-//Diputació de Barcelona//DibaCMS//EN
BEGIN:VEVENT
UID:6341
DTSTAMP:20260419T233259
DTSTART:20220501T120000
DTEND:20220501T130000
SUMMARY:Vine a ballar sardanes
LOCATION:
METHOD:PUBLISH
X-WR-CALNAME:capellades@capellades.cat
X-WR-TIMEZONE:Europe/Madrid
DESCRIPTION:Vine a ballar sardanes aquest diumenge a les 12 del migdia a la plaça Verdaguer.

URI:https://www.capellades.cat/actualitat/agenda/6341-vine-a-ballar-sardanes.html
CLASS:PUBLIC
END:VEVENT
END:VCALENDAR
