BEGIN:VCALENDAR
VERSION:2.0
CALSCALE:GREGORIAN
PRODID:-//Diputació de Barcelona//DibaCMS//EN
BEGIN:VEVENT
UID:631
DTSTAMP:20260419T221934
DTSTART:20151119T000000
DTEND:20151119T000000
SUMMARY:Xerrada Habilitats AUTO que cal promoure als nostres fills
LOCATION:
METHOD:PUBLISH
X-WR-CALNAME:capellades@capellades.cat
X-WR-TIMEZONE:Europe/Madrid
DESCRIPTION:L'AMPA del Col·legi Mare del Diví Pastor de Capellades us proposa la xerrada

HIBILITATS AUTO QUE CAL PROMOURE ALS NOSTRES FILLS

a càrrec de Maria Helena Tolosa

URI:https://www.capellades.cat/actualitat/agenda/xerrada-habilitats-auto-que-cal-promoure-als-nostres-fills.html
CLASS:PUBLIC
END:VEVENT
END:VCALENDAR
