BEGIN:VCALENDAR
VERSION:2.0
CALSCALE:GREGORIAN
PRODID:-//Diputació de Barcelona//DibaCMS//EN
BEGIN:VEVENT
UID:627
DTSTAMP:20260420T035758
DTSTART:20151114T100000
DTEND:20151114T000000
SUMMARY:Partits Futbol Sala cap de setmana
LOCATION:
METHOD:PUBLISH
X-WR-CALNAME:capellades@capellades.cat
X-WR-TIMEZONE:Europe/Madrid
DESCRIPTION:FUTBOL SALA CAPELLADES

Partits de cap de setmana



URI:https://www.capellades.cat/actualitat/agenda/partits-futbol-sala-cap-de-setmana.html
CLASS:PUBLIC
END:VEVENT
END:VCALENDAR
