BEGIN:VCALENDAR
VERSION:2.0
CALSCALE:GREGORIAN
PRODID:-//Diputació de Barcelona//DibaCMS//EN
BEGIN:VEVENT
UID:6260
DTSTAMP:20260419T140026
DTSTART:20220319T110000
DTEND:20220319T120000
SUMMARY:Entendre'ns com gat i gos
LOCATION:
METHOD:PUBLISH
X-WR-CALNAME:capellades@capellades.cat
X-WR-TIMEZONE:Europe/Madrid
DESCRIPTION:Aquest serà el títol de la xerrada que proposa el veterinari Toni Argelich per aquest dissabte a les 11 del matí al Saló Rosa.

URI:https://www.capellades.cat/actualitat/agenda/entendrens-com-gat-i-gos.html
CLASS:PUBLIC
END:VEVENT
END:VCALENDAR
