BEGIN:VCALENDAR
VERSION:2.0
CALSCALE:GREGORIAN
PRODID:-//Diputació de Barcelona//DibaCMS//EN
BEGIN:VEVENT
UID:620
DTSTAMP:20260420T010808
DTSTART:20151111T143000
DTEND:20151111T163000
SUMMARY:Jornada de formació per al Comerç de Capellades
LOCATION:
METHOD:PUBLISH
X-WR-CALNAME:capellades@capellades.cat
X-WR-TIMEZONE:Europe/Madrid
DESCRIPTION:Xerrada formativa:

Tècniques de millora i modernització per al Comerç

La Regidoria de Promoció econòmica i el Consell Comarcal de l'Anoia oferirem aquesta setmana, i la vinent,  una jornada de formació sobre “Tècniques de millora i modernització per al comerç”. Aquesta xerrada formativa es durà a terme els propers 11 i 18 de novembre de 14:30 a 16:30 hores a la Sala d'actes de la Biblioteca El Safareig de Capellades.

En aquesta trobada s'analitzarà la situació actual del comerç i es parlarà de les sortides i solucions que pot emprendre el petit comerç per superar l'actual context de crisi.

Aquesta jornada de formació és totalment gratuïta i oberta a tot els establiments comercials. S'oferirà també la possibilitat de fer un assessorament individualitzat a aquells establiments realment interessats a auditar l'estat del seu negoci, amb voluntat explícita d'aplicar tècniques de de millora i modernització al seu establiment.

 

Per a formalitzar la inscripció al curs o rebre més informació podeu trucar al 93 805 15 85 o per correu electrònic sllopart@anoia.cat (Susanna Llopart).

El termini d'inscripció acaba avui, 9 de novembre de 2015, a les 15:00 hores.



URI:https://www.capellades.cat/actualitat/agenda/jornada-de-formacio-per-al-comerc-de-capellades.html
CLASS:PUBLIC
END:VEVENT
END:VCALENDAR
