BEGIN:VCALENDAR
VERSION:2.0
CALSCALE:GREGORIAN
PRODID:-//Diputació de Barcelona//DibaCMS//EN
BEGIN:VEVENT
UID:618
DTSTAMP:20260422T130240
DTSTART:20151113T220000
DTEND:20151113T000000
SUMMARY:Cinema: Cicle de tardor amb 
LOCATION:
METHOD:PUBLISH
X-WR-CALNAME:capellades@capellades.cat
X-WR-TIMEZONE:Europe/Madrid
DESCRIPTION:
	Cinema de tardor al Saló Rosa de La Lliga amb el film francès

	"La Família Bélier"

	 

	...Tots els membres de la família Bélier són sordmuts, excepte la Paula, la filla de 16 anys. Ella fa d'intèrpret als seus pares, especialment amb el tema de la granja familiar. Un bon dia, engrescada pel professor de música de l'institut, decideix preparar-se per a l'audició del Cor de Ràdio France. Una decisió amb conseqüències per a tots...

URI:https://www.capellades.cat/actualitat/agenda/cinema-cicle-de-tardor-amb-.html
CLASS:PUBLIC
END:VEVENT
END:VCALENDAR
