BEGIN:VCALENDAR
VERSION:2.0
CALSCALE:GREGORIAN
PRODID:-//Diputació de Barcelona//DibaCMS//EN
BEGIN:VEVENT
UID:6164
DTSTAMP:20260419T232439
DTSTART:20220122T190000
DTEND:20220122T210000
SUMMARY: SUSPÈS- Teatre a La Lliga el dia 22 
LOCATION:
METHOD:PUBLISH
X-WR-CALNAME:capellades@capellades.cat
X-WR-TIMEZONE:Europe/Madrid
DESCRIPTION:Per confinament de dos dels protagonistes de l'obra "El diari d'Anna Frank" s'ajorna la representació per a un altre dia, encara per determinar.

URI:https://www.capellades.cat/actualitat/agenda/-suspes-teatre-a-la-lliga-el-dia-22-.html
CLASS:PUBLIC
END:VEVENT
END:VCALENDAR
