BEGIN:VCALENDAR
VERSION:2.0
CALSCALE:GREGORIAN
PRODID:-//Diputació de Barcelona//DibaCMS//EN
BEGIN:VEVENT
UID:6128
DTSTAMP:20260419T195930
DTSTART:20211213T210000
DTEND:20211224T210000
SUMMARY:Concurs Infantil de Pessebres
LOCATION:
METHOD:PUBLISH
X-WR-CALNAME:capellades@capellades.cat
X-WR-TIMEZONE:Europe/Madrid
DESCRIPTION:Inscripcions obertes per al Concurs Infantil de Pessebres. Fins el dia 21 a l'escola Marquès de la Pobla i a l'escola Mare del Diví Pastor. A la parròquia, fins el dia 24 de desembre.

URI:https://www.capellades.cat/actualitat/agenda/6128-concurs-infantil-de-pessebres.html
CLASS:PUBLIC
END:VEVENT
END:VCALENDAR
