BEGIN:VCALENDAR
VERSION:2.0
CALSCALE:GREGORIAN
PRODID:-//Diputació de Barcelona//DibaCMS//EN
BEGIN:VEVENT
UID:6091
DTSTAMP:20260419T170059
DTSTART:20211202T190000
DTEND:20211202T190000
SUMMARY:  Com menjar bé amb un pressupost reduït
LOCATION:
METHOD:PUBLISH
X-WR-CALNAME:capellades@capellades.cat
X-WR-TIMEZONE:Europe/Madrid
DESCRIPTION:Xerrada de Magda Carlas

Teatre La Lliga, sala petita. Entrada lliure.

URI:https://www.capellades.cat/actualitat/agenda/-com-menjar-be-amb-un-pressupost-reduit.html
CLASS:PUBLIC
END:VEVENT
END:VCALENDAR
