BEGIN:VCALENDAR
VERSION:2.0
CALSCALE:GREGORIAN
PRODID:-//Diputació de Barcelona//DibaCMS//EN
BEGIN:VEVENT
UID:6075
DTSTAMP:20260419T182934
DTSTART:20211125T100000
DTEND:20211125T120000
SUMMARY:Taller de descoberta de l’orgue de Capellades
LOCATION:Plaça Verdaguer 08786 Capellades
METHOD:PUBLISH
X-WR-CALNAME:capellades@capellades.cat
X-WR-TIMEZONE:Europe/Madrid
DESCRIPTION:Amb Jonatan Carbó

URI:https://www.capellades.cat/actualitat/agenda/6075-taller-de-descoberta-de-lorgue-de-capellades.html
CLASS:PUBLIC
END:VEVENT
END:VCALENDAR
