BEGIN:VCALENDAR
VERSION:2.0
CALSCALE:GREGORIAN
PRODID:-//Diputació de Barcelona//DibaCMS//EN
BEGIN:VEVENT
UID:6073
DTSTAMP:20260419T140127
DTSTART:20211121T190000
DTEND:20211121T190000
SUMMARY:QUATRE ESTACIONS PORTENYES A BROADWAY. Daniel Ligorio (piano)
LOCATION:SALA PAPER DE MÚSICA 
METHOD:PUBLISH
X-WR-CALNAME:capellades@capellades.cat
X-WR-TIMEZONE:Europe/Madrid
DESCRIPTION:
URI:https://www.capellades.cat/actualitat/agenda/quatre-estacions-portenyes-a-broadway-daniel-ligorio-piano.html
CLASS:PUBLIC
END:VEVENT
END:VCALENDAR
